BEGIN:VCALENDAR
VERSION:2.0
PRODID:spatie/icalendar-generator
DESCRIPTION:Évènements de 
X-WR-CALDESC:Évènements de 
REFRESH-INTERVAL;VALUE=DURATION:PT1440M
X-PUBLISHED-TTL:PT1440M
BEGIN:VTIMEZONE
TZID:Etc/GMT-2
BEGIN:STANDARD
DTSTART:20241007T230000Z
TZOFFSETFROM:+0200
TZOFFSETTO:+0200
END:STANDARD
END:VTIMEZONE
BEGIN:VTIMEZONE
TZID:UTC
BEGIN:STANDARD
DTSTART:20250724T084044Z
TZOFFSETFROM:+0000
TZOFFSETTO:+0000
END:STANDARD
END:VTIMEZONE
BEGIN:VEVENT
UID:321-292
DTSTAMP:20260420T084044Z
SUMMARY:SOIREE DJ NIGHT
LOCATION:
ORGANIZER;CN=kosma:MAILTO:kosmapianobar@sfr.fr
DTSTART;TZID=Etc/GMT-2:20250704T230000
DTEND;TZID=Etc/GMT-2:20250705T050000
X-ALT-DESC;FMTTYPE=TEXT/HTML:SOIREE DJ [video width=\"1280\" height=\"720\"
  webm=\"https://www.kosmaclub.com/wp-content/uploads/2024/06/DJ-2.webm\"][
 /video]
CATEGORIES:Dance Floor
URL;VALUE=URI:https://www.kosmaclub.com/mc-events/soiree-dj-night-42/
METHOD:PUBLISH
END:VEVENT
END:VCALENDAR