BEGIN:VCALENDAR
VERSION:2.0
PRODID:spatie/icalendar-generator
DESCRIPTION:Évènements de 
X-WR-CALDESC:Évènements de 
REFRESH-INTERVAL;VALUE=DURATION:PT1440M
X-PUBLISHED-TTL:PT1440M
BEGIN:VTIMEZONE
TZID:Etc/GMT-2
BEGIN:STANDARD
DTSTART:20240916T230000Z
TZOFFSETFROM:+0200
TZOFFSETTO:+0200
END:STANDARD
END:VTIMEZONE
BEGIN:VTIMEZONE
TZID:UTC
BEGIN:STANDARD
DTSTART:20250727T223453Z
TZOFFSETFROM:+0000
TZOFFSETTO:+0000
END:STANDARD
END:VTIMEZONE
BEGIN:VEVENT
UID:305-276
DTSTAMP:20260423T223453Z
SUMMARY:NO LIMIT
LOCATION:
ORGANIZER;CN=kosma:MAILTO:kosmapianobar@sfr.fr
DTSTART;TZID=Etc/GMT-2:20250613T230000
DTEND;TZID=Etc/GMT-2:20250614T050000
X-ALT-DESC;FMTTYPE=TEXT/HTML:POP ROCK [video width=\"1280\" height=\"720\" 
 webm=\"https://www.kosmaclub.com/wp-content/uploads/2024/05/NO-LIMIT.webm\
 "][/video]
CATEGORIES:PopRock
URL;VALUE=URI:https://www.kosmaclub.com/mc-events/no-limit-9/
METHOD:PUBLISH
END:VEVENT
END:VCALENDAR