BEGIN:VCALENDAR
VERSION:2.0
PRODID:spatie/icalendar-generator
DESCRIPTION:Évènements de 
X-WR-CALDESC:Évènements de 
REFRESH-INTERVAL;VALUE=DURATION:PT1440M
X-PUBLISHED-TTL:PT1440M
BEGIN:VTIMEZONE
TZID:Etc/GMT-2
BEGIN:STANDARD
DTSTART:20231002T230000Z
TZOFFSETFROM:+0200
TZOFFSETTO:+0200
END:STANDARD
END:VTIMEZONE
BEGIN:VTIMEZONE
TZID:UTC
BEGIN:STANDARD
DTSTART:20250724T034554Z
TZOFFSETFROM:+0000
TZOFFSETTO:+0000
END:STANDARD
END:VTIMEZONE
BEGIN:VEVENT
UID:93-91
DTSTAMP:20260420T034554Z
SUMMARY:COCKTAIL OUTREMER
LOCATION:
ORGANIZER;CN=jmv:MAILTO:jeanmarie377@hotmail.com
DTSTART;TZID=Etc/GMT-2:20240628T230000
DTEND;TZID=Etc/GMT-2:20240629T050000
X-ALT-DESC;FMTTYPE=TEXT/HTML:TROPICAL LATINO [video width=\"1280\" height=\
 "720\" webm=\"https://www.kosmaclub.com/wp-content/uploads/2024/06/COCKTAI
 L.webm\"][/video]
CATEGORIES:Tropical Latino
URL;VALUE=URI:https://www.kosmaclub.com/mc-events/cocktail-outremer/
METHOD:PUBLISH
END:VEVENT
END:VCALENDAR