BEGIN:VCALENDAR
VERSION:2.0
PRODID:spatie/icalendar-generator
DESCRIPTION:Évènements de 
X-WR-CALDESC:Évènements de 
REFRESH-INTERVAL;VALUE=DURATION:PT1440M
X-PUBLISHED-TTL:PT1440M
BEGIN:VTIMEZONE
TZID:Etc/GMT-2
BEGIN:STANDARD
DTSTART:20240930T230000Z
TZOFFSETFROM:+0200
TZOFFSETTO:+0200
END:STANDARD
END:VTIMEZONE
BEGIN:VTIMEZONE
TZID:UTC
BEGIN:STANDARD
DTSTART:20250728T043626Z
TZOFFSETFROM:+0000
TZOFFSETTO:+0000
END:STANDARD
END:VTIMEZONE
BEGIN:VEVENT
UID:322-293
DTSTAMP:20260424T043626Z
SUMMARY:CABINE 13
LOCATION:
ORGANIZER;CN=kosma:MAILTO:kosmapianobar@sfr.fr
DTSTART;TZID=Etc/GMT-2:20250627T230000
DTEND;TZID=Etc/GMT-2:20250628T050000
X-ALT-DESC;FMTTYPE=TEXT/HTML:Word Musique [video width=\"1280\" height=\"72
 0\" webm=\"https://www.kosmaclub.com/wp-content/uploads/2024/05/CABINE-13.
 webm\"][/video]
CATEGORIES:PopRock
URL;VALUE=URI:https://www.kosmaclub.com/mc-events/cabine-13-10/
METHOD:PUBLISH
END:VEVENT
END:VCALENDAR